BEGIN:VCALENDAR
VERSION:2.0
PRODID:-//Facultad de Estudios Generales - Recinto de Río Piedras, Universidad de Puerto Rico - ECPv6.15.15//NONSGML v1.0//EN
CALSCALE:GREGORIAN
METHOD:PUBLISH
X-ORIGINAL-URL:https://generales.uprrp.edu
X-WR-CALDESC:Eventos para Facultad de Estudios Generales - Recinto de Río Piedras, Universidad de Puerto Rico
REFRESH-INTERVAL;VALUE=DURATION:PT1H
X-Robots-Tag:noindex
X-PUBLISHED-TTL:PT1H
BEGIN:VTIMEZONE
TZID:America/Puerto_Rico
BEGIN:STANDARD
TZOFFSETFROM:-0400
TZOFFSETTO:-0400
TZNAME:AST
DTSTART:20240101T000000
END:STANDARD
END:VTIMEZONE
BEGIN:VEVENT
DTSTART;TZID=America/Puerto_Rico:20250305T113000
DTEND;TZID=America/Puerto_Rico:20250305T124500
DTSTAMP:20260420T042720
CREATED:20250110T174223Z
LAST-MODIFIED:20250110T174311Z
UID:4904-1741174200-1741178700@generales.uprrp.edu
SUMMARY:Taller: Mastering the Mic: Elevating your Public Speaking Skills. Session 1.
DESCRIPTION:Session 1: Speak with Confidence: Unlocking the Power of Public Speaking. \nLugar/plataforma: Anfiteatro #3 \nModalidad: Presencial \nTipo de actividad: Taller \nDepartamento: Centro de Desarrollo de Competencias Linguísticas \nDescripción: Ready to take your speaking skills to the next level? Join us for «Mastering the Mic: Elevating Your Public Speaking Skills\,» a dynamic two-session workshop designed to help you conquer stage fright\, sharpen your message\, and connect with your audience like a pro. Whether you’re preparing for class presentations or professional pitches\, you’ll learn practical techniques to boost your confidence\, refine your delivery\, and make a lasting impact. Don’t miss this chance to transform your communication skills and make your voice heard!
URL:https://generales.uprrp.edu/evento/taller-mastering-the-mic-elevating-your-public-speaking-skills-session-1/
END:VEVENT
BEGIN:VEVENT
DTSTART;TZID=America/Puerto_Rico:20250305T113000
DTEND;TZID=America/Puerto_Rico:20250305T163000
DTSTAMP:20260420T042720
CREATED:20250110T175041Z
LAST-MODIFIED:20250110T175721Z
UID:4909-1741174200-1741192200@generales.uprrp.edu
SUMMARY:Portal 801.2
DESCRIPTION:Lugar/plataforma: Vestíbulo 1er Piso JBR \nModalidad: Presencial \nTipo de actividad: Instalación Interactiva \nDepartamento: Ciencias Sociales \nDescripción: PORTAL 801.2 es una instalación interactiva que se concibe para sacar las ciencias sociales del salón de clase\, mediante un entramado de tarjetas con código QR que remiten a diversos temas de las Ciencias Sociales: Antropología\, Sociología\, Economía\, Política y Psicología\, además de temas alternativos como Economía Social y Solidaria\, Banca ética\, Monedas comunitarias\, Buen Vivir\, Derechos legales de la Naturaleza y Ley sobre el Cambio Climático en Puerto Rico. Cada tarjeta remite a un breve video que cada visitante puede apreciar con su teléfono móvil\, facilitando la experiencia interactiva. La instalación representa una muestra multidisciplinaria del curso CISO 3122 con didáctica de aprendizaje por proyectos.
URL:https://generales.uprrp.edu/evento/portal-801-2/
END:VEVENT
BEGIN:VEVENT
DTSTART;TZID=America/Puerto_Rico:20250306T160000
DTEND;TZID=America/Puerto_Rico:20250306T173000
DTSTAMP:20260420T042720
CREATED:20250110T175835Z
LAST-MODIFIED:20250227T185429Z
UID:4912-1741276800-1741282200@generales.uprrp.edu
SUMMARY:"Voces femeninas en la ciudad" - Lectura de poesía
DESCRIPTION:Lugar/plataforma: Anfiteatro #2 \nModalidad: Presencial \nTipo de actividad: Lectura de Poesía \nDepartamento: Español
URL:https://generales.uprrp.edu/evento/voces-femeninas-en-la-ciudad-lectura-de-poesia/
END:VEVENT
BEGIN:VEVENT
DTSTART;TZID=America/Puerto_Rico:20250312T080000
DTEND;TZID=America/Puerto_Rico:20250312T160000
DTSTAMP:20260420T042720
CREATED:20250110T181322Z
LAST-MODIFIED:20250110T181322Z
UID:4914-1741766400-1741795200@generales.uprrp.edu
SUMMARY:Jornada Feminista
DESCRIPTION:Lugar/plataforma: Anfiteatro #2 \nModalidad: Presencial \nTipo de actividad: Jornada \nDepartamento: Bachillerato \nDescripción: Día dedicado a conferencias\, presentaciones y conversatorios del feminismo por el mes de la mujer.
URL:https://generales.uprrp.edu/evento/jornada-feminista/
END:VEVENT
BEGIN:VEVENT
DTSTART;TZID=America/Puerto_Rico:20250313T130000
DTEND;TZID=America/Puerto_Rico:20250313T150000
DTSTAMP:20260420T042720
CREATED:20250305T144854Z
LAST-MODIFIED:20250305T145001Z
UID:5036-1741870800-1741878000@generales.uprrp.edu
SUMMARY:Taller: La Nueva Canción de los Años Setenta:  Contenido\, Transformaciones y Contexto Histórico
DESCRIPTION:Lugar/plataforma: Anfiteatro #2 \nModalidad: Presencial \nTipo de actividad: Taller \nDepartamento: Área de Énfasis en Estudios Transdiciplinarios sobre la Música \nDescripción: Taller dirigido por el Sr. Silverio Pérez sobre la nueva canción de los años 70 y cómo se desarrolló o transformó en este contexto histórico.
URL:https://generales.uprrp.edu/evento/taller-la-nueva-cancion-de-los-anos-setenta-contenido-transformaciones-y-contexto-historico/
END:VEVENT
BEGIN:VEVENT
DTSTART;TZID=America/Puerto_Rico:20250314T090000
DTEND;TZID=America/Puerto_Rico:20250314T120000
DTSTAMP:20260420T042720
CREATED:20250110T181812Z
LAST-MODIFIED:20250110T181812Z
UID:4918-1741942800-1741953600@generales.uprrp.edu
SUMMARY:Taller de diseño ux/ui con 'Figma'
DESCRIPTION:Lugar/plataforma: Anfiteatro #7 \nModalidad: Presencial \nTipo de actividad: Taller \nDepartamento: UPR Caribe Digital \nDescripción: Especialmente para humanistas digitales que desean explorar el diseño de interfaces digitales con una base sólida en los principios del diseño gráfico. A lo largo del curso\, no solo aprenderás las destrezas técnicas necesarias para crear interfaces intuitivas y funcionales en Figma\, sino que también situaremos el diseño UX/UI dentro del contexto más amplio del diseño gráfico. Abordaremos conceptos clave como la composición\, la jerarquía visual y la lectura del espacio gráfico\, asegurando que cada decisión en la interfaz esté respaldada por principios de diseño. Este enfoque integral te permitirá no solo utilizar Figma para proyectos UX/UI\, sino también aplicar estos principios a proyectos digitales en el ámbito de las humanidades\, creando diseños que sean visualmente coherentes y culturalmente significativos. Ideal para académicos\, investigadores y creativos que trabajan en la intersección de la tecnología y las humanidades.
URL:https://generales.uprrp.edu/evento/taller-de-diseno-ux-ui-con-figma/
END:VEVENT
BEGIN:VEVENT
DTSTART;TZID=America/Puerto_Rico:20250317T080000
DTEND;TZID=America/Puerto_Rico:20250317T160000
DTSTAMP:20260420T042720
CREATED:20250110T182531Z
LAST-MODIFIED:20250110T194840Z
UID:4920-1742198400-1742227200@generales.uprrp.edu
SUMMARY:Cumbre Internacional de Afrodescendencia 2025
DESCRIPTION:Fecha: 17 al 20 de marzo de 2025 \nLugar/plataforma: Anfiteatros #1\, 2\, 3 y 5 \nModalidad: Presencial \nTipo de actividad: Cumbre \nDescripción: Es un espacio en el cual se convoca a los mejores investigadores del mundo\, organizaciones\, empresas\, entre otros\, para establecer diálogos y reflexiones que puedan llevar a generar alianzas\, colaboraciones y nuevos proyectos con el pilar del antirracismo.
URL:https://generales.uprrp.edu/evento/cumbre-internacional-de-afrodescendencia-2025/
END:VEVENT
BEGIN:VEVENT
DTSTART;TZID=America/Puerto_Rico:20250318T080000
DTEND;TZID=America/Puerto_Rico:20250318T160000
DTSTAMP:20260420T042720
CREATED:20250110T194734Z
LAST-MODIFIED:20250110T194734Z
UID:4980-1742284800-1742313600@generales.uprrp.edu
SUMMARY:Cumbre Internacional de Afrodescendencia 2025
DESCRIPTION:Fecha: 17 al 20 de marzo de 2025 \nLugar/plataforma: Anfiteatros #1\, 2\, 3 y 5 \nModalidad: Presencial \nTipo de actividad: Cumbre \nDescripción: Es un espacio en el cual se convoca a los mejores investigadores del mundo\, organizaciones\, empresas\, entre otros\, para establecer diálogos y reflexiones que puedan llevar a generar alianzas\, colaboraciones y nuevos proyectos con el pilar del antirracismo.
URL:https://generales.uprrp.edu/evento/cumbre-internacional-de-afrodescendencia-2025-2/
END:VEVENT
BEGIN:VEVENT
DTSTART;TZID=America/Puerto_Rico:20250319T080000
DTEND;TZID=America/Puerto_Rico:20250319T160000
DTSTAMP:20260420T042720
CREATED:20250110T194812Z
LAST-MODIFIED:20250110T194812Z
UID:4982-1742371200-1742400000@generales.uprrp.edu
SUMMARY:Cumbre Internacional de Afrodescendencia 2025
DESCRIPTION:Fecha: 17 al 20 de marzo de 2025 \nLugar/plataforma: Anfiteatros #1\, 2\, 3 y 5 \nModalidad: Presencial \nTipo de actividad: Cumbre \nDescripción: Es un espacio en el cual se convoca a los mejores investigadores del mundo\, organizaciones\, empresas\, entre otros\, para establecer diálogos y reflexiones que puedan llevar a generar alianzas\, colaboraciones y nuevos proyectos con el pilar del antirracismo.
URL:https://generales.uprrp.edu/evento/cumbre-internacional-de-afrodescendencia-2025-3/
END:VEVENT
BEGIN:VEVENT
DTSTART;TZID=America/Puerto_Rico:20250319T113000
DTEND;TZID=America/Puerto_Rico:20250319T124500
DTSTAMP:20260420T042720
CREATED:20250110T183457Z
LAST-MODIFIED:20250110T183457Z
UID:4922-1742383800-1742388300@generales.uprrp.edu
SUMMARY:Taller: Mastering the Mic: Elevating Your Public Speaking Skills\, Session 2.
DESCRIPTION:Session 2: «Stage Presence: Building Confidence for Powerful Presentations». \nLugar/plataforma: Anfiteatro #6 \nModalidad: Presencial \nTipo de actividad: Taller \nDepartamento: Centro de Desarrollo de Competencias Lingüísticas \nDescripción: Ready to take your speaking skills to the next level? Join us for «Mastering the Mic: Elevating Your Public Speaking Skills\,» a dynamic two-session workshop designed to help you conquer stage fright\, sharpen your message\, and connect with your audience like a pro. Whether you’re preparing for class presentations or professional pitches\, you’ll learn practical techniques to boost your confidence\, refine your delivery\, and make a lasting impact. Don’t miss this chance to transform your communication skills and make your voice heard!
URL:https://generales.uprrp.edu/evento/taller-mastering-the-mic-elevating-your-public-speaking-skills-session-2/
END:VEVENT
BEGIN:VEVENT
DTSTART;TZID=America/Puerto_Rico:20250320T080000
DTEND;TZID=America/Puerto_Rico:20250320T160000
DTSTAMP:20260420T042720
CREATED:20250110T194939Z
LAST-MODIFIED:20250110T194939Z
UID:4984-1742457600-1742486400@generales.uprrp.edu
SUMMARY:Cumbre Internacional de Afrodescendencia 2025
DESCRIPTION:Fecha: 17 al 20 de marzo de 2025 \nLugar/plataforma: Anfiteatros #1\, 2\, 3 y 5 \nModalidad: Presencial \nTipo de actividad: Cumbre \nDescripción: Es un espacio en el cual se convoca a los mejores investigadores del mundo\, organizaciones\, empresas\, entre otros\, para establecer diálogos y reflexiones que puedan llevar a generar alianzas\, colaboraciones y nuevos proyectos con el pilar del antirracismo.
URL:https://generales.uprrp.edu/evento/cumbre-internacional-de-afrodescendencia-2025-4/
END:VEVENT
BEGIN:VEVENT
DTSTART;TZID=America/Puerto_Rico:20250321T130000
DTEND;TZID=America/Puerto_Rico:20250321T160000
DTSTAMP:20260420T042720
CREATED:20250110T183632Z
LAST-MODIFIED:20250110T183632Z
UID:4924-1742562000-1742572800@generales.uprrp.edu
SUMMARY:Taller: Ciclo de Formación Docente en Inteligencia Artificial: Rueda de las Aplicaciones Tecnológicas e IA
DESCRIPTION:Lugar/plataforma: Anfiteatro #2 \nModalidad: Presencial \nTipo de actividad: Taller \nDepartamento: Decanato \nDescripción: Los participantes explorarán las posibilidades de utilizar una gran diversidad de Aplicaciones Tecnológicas y de Inteligencia Artificial para el manejo de texto\, imagen\, audio\, video\, avatares\, visualizaciones\, interactivos y más. Se incluirá el uso de los asistentes virtuales para tareas de evaluación y avalúo del aprendizaje estudiantil para medir su impacto y uso en el salón de clases. Se enfatizará en la modalidad de uso de múltiples asistentes para utilizar al máximo las herramientas disponibles al docente. Se promoverá en el laboratorio ejemplos prácticos del uso de algunas aplicaciones para discutir las implicaciones de la integración de la tecnología en el salón de clases. Los investigadores deben tener el primer borrador de propuesta.
URL:https://generales.uprrp.edu/evento/taller-ciclo-de-formacion-docente-en-inteligencia-artificial-rueda-de-las-aplicaciones-tecnologicas-e-ia/
END:VEVENT
BEGIN:VEVENT
DTSTART;TZID=America/Puerto_Rico:20250324T113000
DTEND;TZID=America/Puerto_Rico:20250324T125000
DTSTAMP:20260420T042720
CREATED:20250110T183745Z
LAST-MODIFIED:20250110T184301Z
UID:4926-1742815800-1742820600@generales.uprrp.edu
SUMMARY:Seminario de Investigación Interdisciplinaria
DESCRIPTION:Lugar/Plataforma: Salón 306 \nModalidad: Presencial \nTipo de actividad: Seminario \nDepartamento: Decanato \nDescripción: Seminario coordinado por la Dra. Vivian Auffant Vázquez en el cual los docentes de la Facultad presentan sus proyectos académicos.
URL:https://generales.uprrp.edu/evento/seminario-de-investigacion-interdisciplinaria-4/
END:VEVENT
BEGIN:VEVENT
DTSTART;TZID=America/Puerto_Rico:20250325T113000
DTEND;TZID=America/Puerto_Rico:20250325T125000
DTSTAMP:20260420T042720
CREATED:20250110T174446Z
LAST-MODIFIED:20250218T150425Z
UID:4907-1742902200-1742907000@generales.uprrp.edu
SUMMARY:Charla sobre la maestra de canto\, pianista y mezzosoprano puertorriqueña Amalia Paoli en la semana de la mujer
DESCRIPTION:Lugar/plataforma: JBR 306 \nModalidad: Presencial \nTipo de actividad: Conferencia \nDepartamento: Bachillerato \nDescripción: Charla sobre Amalia Paoli en la semana de la mujer\, importante figura de la música puertorriqueña.
URL:https://generales.uprrp.edu/evento/charla-sobre-la-maestra-de-canto-pianista-y-mezzosoprano-puertorriquena-amalia-paoli-en-la-semana-de-la-mujer/
END:VEVENT
BEGIN:VEVENT
DTSTART;TZID=America/Puerto_Rico:20250325T130000
DTEND;TZID=America/Puerto_Rico:20250325T160000
DTSTAMP:20260420T042720
CREATED:20250110T181639Z
LAST-MODIFIED:20250317T191814Z
UID:4916-1742907600-1742918400@generales.uprrp.edu
SUMMARY:5to Foro de Educación\, Historia y Afrodescendencia
DESCRIPTION:Lugar/plataforma: Anfiteatro #3 \nModalidad: Híbrida \nTipo de actividad: Panel \nDepartamento: Bachillerato \nDescripción: Actividad donde se discutirá el proceso de redactar cuentos\, libros y literatura afro.
URL:https://generales.uprrp.edu/evento/5to-foro-de-educacion-historia-y-afrodescendencia/
END:VEVENT
BEGIN:VEVENT
DTSTART;TZID=America/Puerto_Rico:20250326T113000
DTEND;TZID=America/Puerto_Rico:20250326T125000
DTSTAMP:20260420T042720
CREATED:20250110T184604Z
LAST-MODIFIED:20250110T184604Z
UID:4928-1742988600-1742993400@generales.uprrp.edu
SUMMARY:El microrrelato
DESCRIPTION:Lugar/plataforma: Anfiteatro #6 \nModalidad: Presencial \nTipo de actividad: Conferencia \nDepartamento: Centro de Desarrollo de Competencias Lingüísticas \nDescripción: De acuerdo con la Universidad Europea Miguel de Cervantes\, 2011. pp. 97-122\, el microrrelato es un texto narrativo brevísimo que cuenta una historia\, en la que debe imperar la concisión\, la sugerencia y la precisión extrema del lenguaje\, a menudo al servicio de una trama paradójica y sorprendente. Tendremos la experiencia de contar con el Dr. Ricardo Rodríguez\, quien nos presentará esta interesante forma literaria.
URL:https://generales.uprrp.edu/evento/el-microrrelato/
END:VEVENT
BEGIN:VEVENT
DTSTART;TZID=America/Puerto_Rico:20250328T133000
DTEND;TZID=America/Puerto_Rico:20250328T153000
DTSTAMP:20260420T042720
CREATED:20250227T184211Z
LAST-MODIFIED:20250227T184211Z
UID:5033-1743168600-1743175800@generales.uprrp.edu
SUMMARY:¿El Fin de la Universidad? Globalización y Mercantilización del Conocimiento en el Siglo XXI
DESCRIPTION:Lugar/plataforma: JBR 306\n\nModalidad:  Presencial\n\nTipo de actividad: Presentación de Libro\n\nDescripción: Presentación del libro  ¿El Fin de la Universidad? Globalización y Mercantilización del Conocimiento en el Siglo XXI del Dr. Waldemiro Vélez Cardona\, Docente adscrito al Departamento de Ciencias Sociales.  Las presentadoras del libro serán: Dra. Ethel Ríos Orlandi\, Docente adscrita al Departamento de Ciencias Físicas y la Dra. Indira Luciano\, Docente adscrita a la Facultad de Ciencias Sociales.  
URL:https://generales.uprrp.edu/evento/el-fin-de-la-universidad-globalizacion-y-mercantilizacion-del-conocimiento-en-el-siglo-xxi/
END:VEVENT
BEGIN:VEVENT
DTSTART;TZID=America/Puerto_Rico:20250331T100000
DTEND;TZID=America/Puerto_Rico:20250331T120000
DTSTAMP:20260420T042720
CREATED:20250110T184715Z
LAST-MODIFIED:20250110T184715Z
UID:4930-1743415200-1743422400@generales.uprrp.edu
SUMMARY:Jornadas caribeñas de estudios medievales: dedicadas a la Dra. Isabel Gutierrez del Arroyo (Caribbean Conferences on Medieval Studies: In Memory of Dr. Isabel Gutierrez del Arroyo)
DESCRIPTION:Lugar/plataforma: Anfiteatro #3 \nModalidad: Híbrida \nTipo de actividad: Conferencia \nDepartamento: Humanidades \nDescripción: Segundas jornadas del CEMyR en esta ocasión dedicadas al estudio de la Edad Media. El propósito de ésta es visibilizar la pertinencia de los estudios medievales en América Latina\, pero sobre todo en el Caribe. Durante un período de tres días se proveerá un foro para que medievalistas puertorriqueños exponga sus trabajos. El se lo dedica a la Dra. Isabel Gutiérrez del Arroyo\, sobre todo por su gran aporte para los estudios medievales y temprano modernos a través de su publicación Conjunción de elementos del medioevo y la modernidad en la conquista y colonización de Puerto Rico (1974).
URL:https://generales.uprrp.edu/evento/jornadas-caribenas-de-estudios-medievales-dedicadas-a-la-dra-isabel-gutierrez-del-arroyo-caribbean-conferences-on-medieval-studies-in-memory-of-dr-isabel-gutierrez-del-arroyo/
END:VEVENT
BEGIN:VEVENT
DTSTART;TZID=America/Puerto_Rico:20250331T113000
DTEND;TZID=America/Puerto_Rico:20250331T125000
DTSTAMP:20260420T042720
CREATED:20250110T172644Z
LAST-MODIFIED:20250205T200437Z
UID:4902-1743420600-1743425400@generales.uprrp.edu
SUMMARY:Seminario de Investigación Interdisciplinaria
DESCRIPTION:Lugar/Plataforma: Salón 306 \nModalidad: Presencial \nTipo de actividad: Seminario \nDepartamento: Decanato \nDescripción: Seminario coordinado por la Dra. Vivian Auffant Vázquez en el cual los docentes de la Facultad presentan sus proyectos académicos.
URL:https://generales.uprrp.edu/evento/seminario-de-investigacion-interdisciplinaria-3/
END:VEVENT
END:VCALENDAR