BEGIN:VCALENDAR
VERSION:2.0
PRODID:-//Facultad de Estudios Generales - Recinto de Río Piedras, Universidad de Puerto Rico - ECPv6.15.15//NONSGML v1.0//EN
CALSCALE:GREGORIAN
METHOD:PUBLISH
X-WR-CALNAME:Facultad de Estudios Generales - Recinto de Río Piedras, Universidad de Puerto Rico
X-ORIGINAL-URL:https://generales.uprrp.edu
X-WR-CALDESC:Eventos para Facultad de Estudios Generales - Recinto de Río Piedras, Universidad de Puerto Rico
REFRESH-INTERVAL;VALUE=DURATION:PT1H
X-Robots-Tag:noindex
X-PUBLISHED-TTL:PT1H
BEGIN:VTIMEZONE
TZID:America/Puerto_Rico
BEGIN:STANDARD
TZOFFSETFROM:-0400
TZOFFSETTO:-0400
TZNAME:AST
DTSTART:20250101T000000
END:STANDARD
END:VTIMEZONE
BEGIN:VEVENT
DTSTART;TZID=America/Puerto_Rico:20260401T080000
DTEND;TZID=America/Puerto_Rico:20260430T160000
DTSTAMP:20260424T184706
CREATED:20251218T130842Z
LAST-MODIFIED:20251218T130842Z
UID:5953-1775030400-1777564800@generales.uprrp.edu
SUMMARY:Exposición / Scavenger Hunt virtual
DESCRIPTION:Coordina: Departamento de Humanidades \nFecha: Desde el 1 al 30 de abril de 2026 \nHora: 8:00 am – 4:00 pm / permanente \nLugar: Biblioteca Ángel Quintero Alfaro\, tablones de avisos y espacios comunes de la FEG \nDescripción: Experiencia cultural que combina historia y arte a través de una exhibición virtual accesible mediante códigos QR. Esta integración tecnológica permite una exploración personalizada y dinámica\, transformando la visita en una experiencia educativa y envolvente.
URL:https://generales.uprrp.edu/evento/exposicion-scavenger-hunt-virtual/
END:VEVENT
BEGIN:VEVENT
DTSTART;TZID=America/Puerto_Rico:20260424T090000
DTEND;TZID=America/Puerto_Rico:20260424T120000
DTSTAMP:20260424T184706
CREATED:20260212T201035Z
LAST-MODIFIED:20260212T201035Z
UID:6146-1777021200-1777032000@generales.uprrp.edu
SUMMARY:Estudios Generales en Puerto Rico: Del estado de situación de la Educación General a la acción académica colaborativa
DESCRIPTION:Coordina: Red de Estudios Generales de Puerto Rico (REG-PR) \nLugar/Plataforma: Auditorio Jesús T. Piñero Buck\, Universidad Ana G. Méndez\, Recinto de Carolina \nModalidad: Presencial \nTipo de actividad: Panel Académico Institucional \nDescripción: Actividad inaugural de la REG-PR orientada al análisis crítico del estado actual de los Estudios Generales.
URL:https://generales.uprrp.edu/evento/estudios-generales-en-puerto-rico-del-estado-de-situacion-de-la-educacion-general-a-la-accion-academica-colaborativa/
END:VEVENT
BEGIN:VEVENT
DTSTART;TZID=America/Puerto_Rico:20260424T130000
DTEND;TZID=America/Puerto_Rico:20260424T150000
DTSTAMP:20260424T184706
CREATED:20260129T163952Z
LAST-MODIFIED:20260129T163952Z
UID:6073-1777035600-1777042800@generales.uprrp.edu
SUMMARY:Presentaciones Abiertas de Integración de la IA\, Investigación y Tertulia  (Ciclo de formación Básica en IA)
DESCRIPTION:Lugar/Plataforma: Anfiteatro # 5 \nModalidad: Presencial \nTipo de actividad: Ciclo de Formación Universitaria en Inteligencia Artificial y Educación General \nDepartamento: Decanato \nDescripción: Los participantes contextualizan el uso de la inteligencia artificial en la educación con un acercamiento práctico al uso de las herramientas disponibles para diversos contenidos. Se utilizará un enfoque sistemático y técnico para construir a lo largo de esta serie de talleres un inventario de herramientas útiles que estén al alcance de toda la comunidad universitaria. Este encuentro se utilizará para compartir los trabajos de los participantes en todos los contenidos cubiertos durante el semestre. Se promoverá en el laboratorio una discusión abierta sobre la integración de la IA en el ámbito académico. Se enfatiza en el uso ético y responsable de la IA. Se integra la investigación transdisciplinaria mediante el Modelo PROEMA en su fase de emancipación y presentaciones de investigaciones independientes.
URL:https://generales.uprrp.edu/evento/presentaciones-abiertas-de-integracion-de-la-ia-investigacion-y-tertulia-ciclo-de-formacion-basica-en-ia/
END:VEVENT
BEGIN:VEVENT
DTSTART;TZID=America/Puerto_Rico:20260424T133000
DTEND;TZID=America/Puerto_Rico:20260424T153000
DTSTAMP:20260424T184706
CREATED:20260211T133400Z
LAST-MODIFIED:20260211T133400Z
UID:6139-1777037400-1777044600@generales.uprrp.edu
SUMMARY:Seminario de Investigación Interdisciplinaria
DESCRIPTION:Lugar/Plataforma: Salón JBR 306 \nModalidad: Presencial \nTipo de actividad: Seminarios \nDepartamento: Decanato
URL:https://generales.uprrp.edu/evento/seminario-de-investigacion-interdisciplinaria-8/
END:VEVENT
END:VCALENDAR