BEGIN:VCALENDAR
VERSION:2.0
PRODID:-//Facultad de Estudios Generales - Recinto de Río Piedras, Universidad de Puerto Rico - ECPv6.15.15//NONSGML v1.0//EN
CALSCALE:GREGORIAN
METHOD:PUBLISH
X-WR-CALNAME:Facultad de Estudios Generales - Recinto de Río Piedras, Universidad de Puerto Rico
X-ORIGINAL-URL:https://generales.uprrp.edu
X-WR-CALDESC:Eventos para Facultad de Estudios Generales - Recinto de Río Piedras, Universidad de Puerto Rico
REFRESH-INTERVAL;VALUE=DURATION:PT1H
X-Robots-Tag:noindex
X-PUBLISHED-TTL:PT1H
BEGIN:VTIMEZONE
TZID:America/Puerto_Rico
BEGIN:STANDARD
TZOFFSETFROM:-0400
TZOFFSETTO:-0400
TZNAME:AST
DTSTART:20250101T000000
END:STANDARD
END:VTIMEZONE
BEGIN:VEVENT
DTSTART;TZID=America/Puerto_Rico:20260401T080000
DTEND;TZID=America/Puerto_Rico:20260430T160000
DTSTAMP:20260420T053933
CREATED:20251218T130842Z
LAST-MODIFIED:20251218T130842Z
UID:5953-1775030400-1777564800@generales.uprrp.edu
SUMMARY:Exposición / Scavenger Hunt virtual
DESCRIPTION:Coordina: Departamento de Humanidades \nFecha: Desde el 1 al 30 de abril de 2026 \nHora: 8:00 am – 4:00 pm / permanente \nLugar: Biblioteca Ángel Quintero Alfaro\, tablones de avisos y espacios comunes de la FEG \nDescripción: Experiencia cultural que combina historia y arte a través de una exhibición virtual accesible mediante códigos QR. Esta integración tecnológica permite una exploración personalizada y dinámica\, transformando la visita en una experiencia educativa y envolvente.
URL:https://generales.uprrp.edu/evento/exposicion-scavenger-hunt-virtual/
END:VEVENT
BEGIN:VEVENT
DTSTART;TZID=America/Puerto_Rico:20260420T113000
DTEND;TZID=America/Puerto_Rico:20260420T125000
DTSTAMP:20260420T053933
CREATED:20251218T131629Z
LAST-MODIFIED:20251218T132039Z
UID:5959-1776684600-1776689400@generales.uprrp.edu
SUMMARY:Del Studia Liberalia a los estudios generales: una mirada a la educación general desde las humanidades
DESCRIPTION:Coordina: Departamento de Humanidades \nLugar: Anfiteatro 3 del edificio Domingo Marrero Navarro \nDescripción: Un panel de reflexión que explorará los cambios\, retos y logros de los Estudios Generales a lo largo del tiempo. Participarán los profesores Dr. Manuel Maldonado Rivera\, Dra. Jénnifer Solivan y Dr. Marcos Aurelio García\, quienes compartirán sus perspectivas desde la docencia y la experiencia institucional.
URL:https://generales.uprrp.edu/evento/del-studia-liberalia-a-los-estudios-generales-una-mirada-a-la-educacion-general-desde-las-humanidades/
END:VEVENT
END:VCALENDAR